BEGIN:VCALENDAR
VERSION:2.0
PRODID:-//Klimaarbeitskreis - ECPv6.15.20//NONSGML v1.0//EN
CALSCALE:GREGORIAN
METHOD:PUBLISH
X-ORIGINAL-URL:http://klimaarbeitskreis-lk.de
X-WR-CALDESC:Veranstaltungen für Klimaarbeitskreis
REFRESH-INTERVAL;VALUE=DURATION:PT1H
X-Robots-Tag:noindex
X-PUBLISHED-TTL:PT1H
BEGIN:VTIMEZONE
TZID:Europe/Paris
BEGIN:DAYLIGHT
TZOFFSETFROM:+0100
TZOFFSETTO:+0200
TZNAME:CEST
DTSTART:20250330T010000
END:DAYLIGHT
BEGIN:STANDARD
TZOFFSETFROM:+0200
TZOFFSETTO:+0100
TZNAME:CET
DTSTART:20251026T010000
END:STANDARD
BEGIN:DAYLIGHT
TZOFFSETFROM:+0100
TZOFFSETTO:+0200
TZNAME:CEST
DTSTART:20260329T010000
END:DAYLIGHT
BEGIN:STANDARD
TZOFFSETFROM:+0200
TZOFFSETTO:+0100
TZNAME:CET
DTSTART:20261025T010000
END:STANDARD
BEGIN:DAYLIGHT
TZOFFSETFROM:+0100
TZOFFSETTO:+0200
TZNAME:CEST
DTSTART:20270328T010000
END:DAYLIGHT
BEGIN:STANDARD
TZOFFSETFROM:+0200
TZOFFSETTO:+0100
TZNAME:CET
DTSTART:20271031T010000
END:STANDARD
END:VTIMEZONE
BEGIN:VEVENT
DTSTART;TZID=Europe/Paris:20260206T180000
DTEND;TZID=Europe/Paris:20260206T210000
DTSTAMP:20260421T113354
CREATED:20251124T131344Z
LAST-MODIFIED:20260118T114020Z
UID:10031-1770400800-1770411600@klimaarbeitskreis-lk.de
SUMMARY:Vortrag: Gebäudeenergiegesetz & Wärmepumpe
DESCRIPTION:Kurzbeschreibung \n\n\n\nDas Gebäudeenergiegesetz (GEG) wirft viele Fragen auf – besonders im Zusammenhang mit dem Einsatz von Wärmepumpen und möglicher Förderungen. In einem kompakten Vortragsabend des Klimaarbeitskreises Lauda-Königshofen informiert der Geschäftsführer der Energieagentur Main-Tauber-Kreis über die aktuellen gesetzlichen Rahmenbedingungen und technische Grundlagen. Ergänzend berichten drei Wärmepumpenbetreiber aus der Praxis über ihre Erfahrungen. Den Abschluss bildet die Besichtigung der drei Objekte\, bei der Technik und Umsetzung vor Ort erlebt werden können.
URL:http://klimaarbeitskreis-lk.de/events/vortrag-waermepumpen/
LOCATION:Josefshaus Gerlachsheim\, Würzburger Str. 22\, Lauda-Königshofen / Gerlachsheim\, Baden-Württemberg\, 97922\, Germany
END:VEVENT
BEGIN:VEVENT
DTSTART;TZID=Europe/Paris:20260210T180000
DTEND;TZID=Europe/Paris:20260210T200000
DTSTAMP:20260421T113354
CREATED:20251124T132238Z
LAST-MODIFIED:20260212T135800Z
UID:10039-1770746400-1770753600@klimaarbeitskreis-lk.de
SUMMARY:REPARATUR-CAFE – Reparieren statt Wegwerfen
DESCRIPTION:Unter diesem Motto hat der Klimaarbeitskreis Lauda-Königshofen mit Unterstützung von Futurelabs gGmbH in Lauda-Königshofen ein REPARATUR-CAFE gestartet. \n\n\n\nIn den Räumen von Futurelabs in der Korngasse 2 in Lauda unterstützen ehrenamtliche\, fachkundige Reparateure Besucher dabei\, Defekte an mitgebrachten Gegenständen zu untersuchen und möglichst auch zu reparieren. \n\n\n\nOb aus dem Bereich Elektronik (Hausgeräte\, oder auch Unterhaltungselektronik)\, Holz\, Fahrrad oder Spielzeug. \n\n\n\nEin Versuch ist es allemal wert. Einfach mit den Gegenständen ohne Voranmeldung vorbeikommen. \n\n\n\nAuch weitere ehrenamtliche Reparateure sind jederzeit willkommen \n\n\n\nDurch das gemeinsame Reparieren setzen engagierte Bürger ein Zeichen gegen eine sorglose Wegwerf-Gesellschaft\, und für eine Resourcen- und CO²-Einsparung. \n\n\n\nDie Reparaturen sind kostenfrei. Kleine Spenden sind willkommen. \n\n\n\nKontakt:Webseite Klimaarbeitskreis: http://klimaarbeitskreis-lk.deTel. 09343/3144 \n\n\n\nhttp://klimaarbeitskreis-lk.de/wp-content/uploads/Reparaturcafe-Plakat-gelb.pdf
URL:http://klimaarbeitskreis-lk.de/events/reparatur-cafe-reparieren-statt-wegwerfen-28/
LOCATION:Futurlabs gGmbH\, Korngasse 2\, 97922 Lauda-Königshofen\, Korngasse 2\, Lauda-Königshofen\, 97922\, Deutschland
END:VEVENT
BEGIN:VEVENT
DTSTART;TZID=Europe/Paris:20260223T190000
DTEND;TZID=Europe/Paris:20260223T210000
DTSTAMP:20260421T113354
CREATED:20260219T105338Z
LAST-MODIFIED:20260219T111129Z
UID:10120-1771873200-1771880400@klimaarbeitskreis-lk.de
SUMMARY:Kandidaten-Check zur Landtagswahl
DESCRIPTION:Kandidaten-Check zur Landtagswahl: UmweltpolitischeStrategien für Baden-WürttembergPodiumsdiskussion in der Tauberphilharmonie WeikersheimIm Vorfeld der Landtagswahl 2026 lädt das Klimanetzwerk Main-Tauber-Kreis zu einer öffentlichen Podiumsdiskussion am 23. Februar 2026 von 19.00 bis 21.00 Uhr in die Tauberphilharmonie Weikersheim ein. Im Zentrum des Abends steht die Frage\, wie Baden-Württemberg das Ziel derKlimaneutralität bis 2040 erreichen kann. Diskutiert werden die umwelt- undklimapolitischen Strategien der Parteien in den Bereichen:– Klimaneutralität und konkrete Maßnahmen des Landes– Klimaanpassung (u. a. Umgang mit Hitze\, Trockenheit und Extremwetter)– Biodiversität und Naturschutz– Umsetzung und Finanzierung landespolitischer Maßnahmen \n\n\n\nUnter dem Titel „Kandidaten-Check: Umweltpolitische Strategien für Baden-Württemberg“ wurden die Kandidatinnen und Kandidaten der im Kreistag vertretenen Parteien eingeladen\, sich den Fragen einer sachlich moderierten Diskussion zu stellen. Ziel ist es\, den Bürgerinnen und Bürgern einen klaren Überblick über konkrete Vorhaben\, Prioritäten und Unterschiede in der Umwelt- und Klimapolitik zu ermöglichen.Die Podiumsdiskussion ist als inhaltliches Fachforum angelegt. Im Mittelpunkt stehen Umsetzbarkeit\, Wirkung und Verantwortung der Landespolitik – nicht parteipolitischer Schlagabtausch. Fragen aus dem Publikum werden vorab gesammelt und ausgewählt\, um eine informative und faire Diskussion zu gewährleisten. Die Veranstaltung ist öffentlich\, der Eintritt frei.Das Klimanetzwerk Main-Tauber-Kreis lädt alle interessierten Bürgerinnen und Bürger herzlich ein\, sich zu informieren\, mitzudiskutieren und ihre Fragen zur Zukunft der Klimapolitik in Baden-Württemberg einzubringen.
URL:http://klimaarbeitskreis-lk.de/events/kandidaten-check-zur-landtagswahl/
LOCATION:Tauberphilharmonie Weikersheim\, August-Laukhuff-Straße 19\, Weikersheim\, Baden-Württemberg\, 97990\, Germany
END:VEVENT
END:VCALENDAR