BEGIN:VCALENDAR
VERSION:2.0
PRODID:-//Klimaarbeitskreis - ECPv6.15.20//NONSGML v1.0//EN
CALSCALE:GREGORIAN
METHOD:PUBLISH
X-WR-CALNAME:Klimaarbeitskreis
X-ORIGINAL-URL:http://klimaarbeitskreis-lk.de
X-WR-CALDESC:Veranstaltungen für Klimaarbeitskreis
REFRESH-INTERVAL;VALUE=DURATION:PT1H
X-Robots-Tag:noindex
X-PUBLISHED-TTL:PT1H
BEGIN:VTIMEZONE
TZID:Europe/Paris
BEGIN:DAYLIGHT
TZOFFSETFROM:+0100
TZOFFSETTO:+0200
TZNAME:CEST
DTSTART:20250330T010000
END:DAYLIGHT
BEGIN:STANDARD
TZOFFSETFROM:+0200
TZOFFSETTO:+0100
TZNAME:CET
DTSTART:20251026T010000
END:STANDARD
BEGIN:DAYLIGHT
TZOFFSETFROM:+0100
TZOFFSETTO:+0200
TZNAME:CEST
DTSTART:20260329T010000
END:DAYLIGHT
BEGIN:STANDARD
TZOFFSETFROM:+0200
TZOFFSETTO:+0100
TZNAME:CET
DTSTART:20261025T010000
END:STANDARD
BEGIN:DAYLIGHT
TZOFFSETFROM:+0100
TZOFFSETTO:+0200
TZNAME:CEST
DTSTART:20270328T010000
END:DAYLIGHT
BEGIN:STANDARD
TZOFFSETFROM:+0200
TZOFFSETTO:+0100
TZNAME:CET
DTSTART:20271031T010000
END:STANDARD
END:VTIMEZONE
BEGIN:VEVENT
DTSTART;TZID=Europe/Paris:20260223T190000
DTEND;TZID=Europe/Paris:20260223T210000
DTSTAMP:20260421T133141
CREATED:20260219T105338Z
LAST-MODIFIED:20260219T111129Z
UID:10120-1771873200-1771880400@klimaarbeitskreis-lk.de
SUMMARY:Kandidaten-Check zur Landtagswahl
DESCRIPTION:Kandidaten-Check zur Landtagswahl: UmweltpolitischeStrategien für Baden-WürttembergPodiumsdiskussion in der Tauberphilharmonie WeikersheimIm Vorfeld der Landtagswahl 2026 lädt das Klimanetzwerk Main-Tauber-Kreis zu einer öffentlichen Podiumsdiskussion am 23. Februar 2026 von 19.00 bis 21.00 Uhr in die Tauberphilharmonie Weikersheim ein. Im Zentrum des Abends steht die Frage\, wie Baden-Württemberg das Ziel derKlimaneutralität bis 2040 erreichen kann. Diskutiert werden die umwelt- undklimapolitischen Strategien der Parteien in den Bereichen:– Klimaneutralität und konkrete Maßnahmen des Landes– Klimaanpassung (u. a. Umgang mit Hitze\, Trockenheit und Extremwetter)– Biodiversität und Naturschutz– Umsetzung und Finanzierung landespolitischer Maßnahmen \n\n\n\nUnter dem Titel „Kandidaten-Check: Umweltpolitische Strategien für Baden-Württemberg“ wurden die Kandidatinnen und Kandidaten der im Kreistag vertretenen Parteien eingeladen\, sich den Fragen einer sachlich moderierten Diskussion zu stellen. Ziel ist es\, den Bürgerinnen und Bürgern einen klaren Überblick über konkrete Vorhaben\, Prioritäten und Unterschiede in der Umwelt- und Klimapolitik zu ermöglichen.Die Podiumsdiskussion ist als inhaltliches Fachforum angelegt. Im Mittelpunkt stehen Umsetzbarkeit\, Wirkung und Verantwortung der Landespolitik – nicht parteipolitischer Schlagabtausch. Fragen aus dem Publikum werden vorab gesammelt und ausgewählt\, um eine informative und faire Diskussion zu gewährleisten. Die Veranstaltung ist öffentlich\, der Eintritt frei.Das Klimanetzwerk Main-Tauber-Kreis lädt alle interessierten Bürgerinnen und Bürger herzlich ein\, sich zu informieren\, mitzudiskutieren und ihre Fragen zur Zukunft der Klimapolitik in Baden-Württemberg einzubringen.
URL:http://klimaarbeitskreis-lk.de/events/kandidaten-check-zur-landtagswahl/
LOCATION:Tauberphilharmonie Weikersheim\, August-Laukhuff-Straße 19\, Weikersheim\, Baden-Württemberg\, 97990\, Germany
END:VEVENT
END:VCALENDAR